Workbook
Name ENTE_PUBLICO: '[1]Info General'!$C$6

Sheet Formato 1
A1: Formato 1 Estado de Situación Financiera Detallado - LDF
A2: Municipio de Huanímaro, Gto.
A3: Estado de Situación Financiera Detallado - LDF
A4: al 31 de Diciembre de 2023 y al 31 de Diciembre de 2024
A5: (PESOS)
A6: Concepto (c) | B6: 2024 | C6: 31 de diciembre de 2023 | D6: Concepto (c) | E6: 2024 | F6: 31 de diciembre de 2023
A7: ACTIVO | D7: PASIVO
A8: Activo Circulante | D8: Pasivo Circulante
A9: a. Efectivo y Equivalentes (a=a1+a2+a3+a4+a5+a6+a7) | B9: 11350000 | C9: 27017005 | D9: a. Cuentas por Pagar a Corto Plazo (a=a1+a2+a3+a4+a5+a6+a7+a8+a9) | E9: 4206321.4 | F9: 4806057
A10: a1) Efectivo | B10: 0 | C10: 0 | D10: a1) Servicios Personales por Pagar a Corto Plazo | E10: -4172971.5 | F10: -3718097.9
A11: a2) Bancos/Tesorería | B11: 5120347.9 | C11: 27015987 | D11: a2) Proveedores por Pagar a Corto Plazo | E11: 1235449.3 | F11: 343253.5
A12: a3) Bancos/Dependencias y Otros | B12: 0 | C12: 0 | D12: a3) Contratistas por Obras Públicas por Pagar a Corto Plazo | E12: 152686.44 | F12: 382648.57
A13: a4) Inversiones Temporales (Hasta 3 meses) | B13: 6228633.9 | C13: 0 | D13: a4) Participaciones y Aportaciones por Pagar a Corto Plazo | E13: 0 | F13: 0
A14: a5) Fondos con Afectación Específica | B14: 0 | C14: 0 | D14: a5) Transferencias Otorgadas por Pagar a Corto Plazo | E14: 35270.9 | F14: 34451.9
A15: a6) Depósitos de Fondos de Terceros en Garantía y/o Administración | B15: 1018.17 | C15: 1018.17 | D15: a6) Intereses, Comisiones y Otros Gastos de la Deuda Pública por Pagar a Corto Plazo | E15: 0 | F15: 0
A16: a7) Otros Efectivos y Equivalentes | B16: 0 | C16: 0 | D16: a7) Retenciones y Contribuciones por Pagar a Corto Plazo | E16: 5822309.3 | F16: 7370565.8
A17: b. Derechos a Recibir Efectivo o Equivalentes (b=b1+b2+b3+b4+b5+b6+b7) | B17: 2128975.7 | C17: -3503976.5 | D17: a8) Devoluciones de la Ley de Ingresos por Pagar a Corto Plazo | E17: 0 | F17: 0
A18: b1) Inversiones Financieras de Corto Plazo | B18: -1022440.3 | C18: 1222378.2 | D18: a9) Otras Cuentas por Pagar a Corto Plazo | E18: 1133576.9 | F18: 393235.09
A19: b2) Cuentas por Cobrar a Corto Plazo | B19: -2962316.4 | C19: -2962316.4 | D19: b. Documentos por Pagar a Corto Plazo (b=b1+b2+b3) | E19: 0 | F19: 0
A20: b3) Deudores Diversos por Cobrar a Corto Plazo | B20: -110547.22 | C20: -2389297.7 | D20: b1) Documentos Comerciales por Pagar a Corto Plazo | E20: 0 | F20: 0
... A45: g4) Adquisición con Fondos de Terceros | B45: 0 | C45: 0 | D45: h3) Otros Pasivos Circulantes | E45: 0 | F45: 0
E46: 0 | F46: 0
A47: IA. Total de Activos Circulantes (IA = a + b + c + d + e + f + g) | B47: 16072982 | C47: 29488775 | D47: IIA. Total de Pasivos Circulantes (IIA = a + b + c + d + e + f + g + h) | E47: 10206321 | F47: 9606057
A49: Activo No Circulante | D49: Pasivo No Circulante
A50: a. Inversiones Financieras a Largo Plazo | B50: 0 | C50: 0 | D50: a. Cuentas por Pagar a Largo Plazo | E50: 1479646.1 | F50: 1479646.1
A51: b. Derechos a Recibir Efectivo o Equivalentes a Largo Plazo | B51: 0 | C51: 0 | D51: b. Documentos por Pagar a Largo Plazo | E51: 0 | F51: 0
A52: c. Bienes Inmuebles, Infraestructura y Construcciones en Proceso | B52: 2.1037314e+08 | C52: 1.638921e+08 | D52: c. Deuda Pública a Largo Plazo | E52: 0 | F52: 0
A53: d. Bienes Muebles | B53: 29001618 | C53: 27960032 | D53: d. Pasivos Diferidos a Largo Plazo | E53: 0 | F53: 0
A54: e. Activos Intangibles | B54: 262161.55 | C54: 262161.55 | D54: e. Fondos y Bienes de Terceros en Garantía y/o en Administración a Largo Plazo | E54: 0 | F54: 0
A55: f. Depreciación, Deterioro y Amortización Acumulada de Bienes | B55: -16532930 | C55: -15008808 | D55: f. Provisiones a Largo Plazo | E55: 0 | F55: 0
A56: g. Activos Diferidos | B56: 475531.26 | C56: 475531.26
A57: h. Estimación por Pérdida o Deterioro de Activos no Circulantes | B57: 0 | C57: 0 | D57: IIB. Total de Pasivos No Circulantes (IIB = a + b + c + d + e + f) | E57: 1479646.1 | F57: 1479646.1
A58: i. Otros Activos no Circulantes | B58: 0 | C58: 0
D59: II. Total del Pasivo (II = IIA + IIB) | E59: 11685967 | F59: 11085703
A60: IB. Total de Activos No Circulantes (IB = a + b + c + d + e + f + g + h + i) | B60: 2.2357953e+08 | C60: 1.7758102e+08
D61: HACIENDA PÚBLICA/PATRIMONIO
A62: I. Total del Activo (I = IA + IB) | B62: 2.3965251e+08 | C62: 2.0706979e+08
D63: IIIA. Hacienda Pública/Patrimonio Contribuido (IIIA = a + b + c) | E63: 13283851 | F63: 13283851
D64: a. Aportaciones | E64: 9488085.7 | F64: 9488085.7
D65: b. Donaciones de Capital | E65: 3795765.5 | F65: 3795765.5
...

Sheet Formato 2
A1: Formato 2 Informe Analítico de la Deuda Pública y Otros Pasivos - LDF
A2: Formato 2 Informe Analítico de la Deuda Pública y Otros Pasivos - LDF
A3: Municipio de Huanímaro, Gto.
A4: Informe Analítico de la Deuda Pública y Otros Pasivos - LDF
A5: Al 31 de Diciembre de 2023 y al 31 de Diciembre de 2024
A6: (PESOS)
A7: Denominación de la Deuda Pública y Otros Pasivos (c) | B7: Saldo al 31 de diciembre de 2023 (d) | C7: Disposiciones del Periodo (e) | D7: Amortizaciones del Periodo (f) | E7: Revaluaciones, Reclasificaciones y Otros Ajustes (g) | F7: Saldo Final del Periodo (h) h=d+e-f+g | G7: Pago de Intereses del Periodo (i) | H7: Pago de Comisiones y demás costos asociados durante el Periodo (j)
A9: 1. Deuda Pública (1=A+B) | B9: 0 | C9: 0 | D9: 4800000 | E9: 0 | F9: -4800000 | G9: 164640 | H9: 0
A10: A. Corto Plazo (A=a1+a2+a3) | B10: 0 | C10: 0 | D10: 4800000 | E10: 0 | F10: -4800000 | G10: 164640 | H10: 0
A11: a1) Instituciones de Crédito | B11: 0 | C11: 0 | D11: 4800000 | E11: 0 | F11: -4800000 | G11: 164640 | H11: 0
A12: a2) Títulos y Valores | B12: 0 | C12: 0 | D12: 0 | E12: 0 | F12: 0 | G12: 0 | H12: 0
A13: a3) Arrendamientos Financieros | B13: 0 | C13: 0 | D13: 0 | E13: 0 | F13: 0 | G13: 0 | H13: 0
A14: B. Largo Plazo (B=b1+b2+b3) | B14: 0 | C14: 0 | D14: 0 | E14: 0 | F14: 0 | G14: 0 | H14: 0
A15: b1) Instituciones de Crédito | B15: 0 | C15: 0 | D15: 0 | E15: 0 | F15: 0 | G15: 0 | H15: 0
A16: b2) Títulos y Valores | B16: 0 | C16: 0 | D16: 0 | E16: 0 | F16: 0 | G16: 0 | H16: 0
A17: b3) Arrendamientos Financieros | B17: 0 | C17: 0 | D17: 0 | E17: 0 | F17: 0 | G17: 0 | H17: 0
A19: 2. Otros Pasivos | B19: 14085703 | F19: 19485967
A21: 3. Total de la Deuda Pública y Otros Pasivos (3=1+2) | B21: 14085703 | C21: 0 | D21: 4800000 | E21: 0 | F21: 14685967 | G21: 164640 | H21: 0
A23: 4. Deuda Contingente 1 (Informativo) | B23: 0 | C23: 0 | D23: 0 | E23: 0 | F23: 0 | G23: 0 | H23: 0
A24: A. Deuda Contingente 1 | B24: 0 | C24: 0 | D24: 0 | E24: 0 | F24: 0 | G24: 0 | H24: 0
A25: B. Deuda Contingente 2 | B25: 0 | C25: 0 | D25: 0 | E25: 0 | F25: 0 | G25: 0 | H25: 0
A26: C. Deuda Contingente XX | B26: 0 | C26: 0 | D26: 0 | E26: 0 | F26: 0 | G26: 0 | H26: 0
A27: *
A28: 5. Valor de Instrumentos Bono Cupón Cero 2 (Informativo) | B28: 0 | C28: 0 | D28: 0 | E28: 0 | F28: 0 | G28: 0 | H28: 0
A29: A. Instrumento Bono Cupón Cero 1 | B29: 0 | C29: 0 | D29: 0 | E29: 0 | F29: 0 | G29: 0 | H29: 0
A30: B. Instrumento Bono Cupón Cero 2 | B30: 0 | C30: 0 | D30: 0 | E30: 0 | F30: 0 | G30: 0 | H30: 0
A31: C. Instrumento Bono Cupón Cero XX | B31: 0 | C31: 0 | D31: 0 | E31: 0 | F31: 0 | G31: 0 | H31: 0
A32: *
A34: 1 Se refiere a cualquier Financiamiento sin fuente o garantía de pago definida, que sea asumida de manera solidaria o subsidiaria por las Entidades Federativas con sus Municipios, organismos descentralizados y empresas de participación estatal mayoritaria y fideicomisos, locales o municipales, y por los Municipios con sus respectivos organismos descentralizados y empresas de participación municipal mayoritaria. 2 Se refiere al valor del Bono Cupón Cero que respalda el pago de los créditos asociados al mismo (Activo).
A40: Obligaciones a Corto Plazo (k) | B40: Monto Contratado (l) | C40: Plazo Pactado (m) | D40: Tasa de Interés (n) | E40: Comisiones y Costos Relacionados (o) | F40: Tasa Efectiva (p)
A42: 6. Obligaciones a Corto Plazo (Informativo) | B42: 0 | C42: 0 | D42: 0 | E42: 0 | F42: 0
A43: A. Crédito 1
A44: B. Crédito 2
A45: C. Crédito XX
A46: *

Sheet Formato 3
A1: Formato 3 Informe Analítico de Obligaciones Diferentes de Financiamientos - LDF
A2: Municipio de Huanímaro, Gto.
A3: Informe Analítico de Obligaciones Diferentes de Financiamientos – LDF
A4: del 01 de Enero al 31 de Diciembre de 2024
A5: (PESOS)
A6: Denominación de las Obligaciones Diferentes de Financiamiento (c) | B6: Fecha del Contrato (d) | C6: Fecha de inicio de operación del proyecto (e) | D6: Fecha de vencimiento (f) | E6: Monto de la inversión pactado (g) | F6: Plazo pactado (h) | G6: Monto promedio mensual del pago de la contraprestación (i) | H6: Monto promedio mensual del pago de la contraprestación correspondiente al pago de inversión (j) | I6: Monto pagado de la inversión al 31 de Diciembre de 2024 (k) | J6: Monto pagado de la inversión actualizado al 31 de Diciembre de 2024 (l) | K6: Saldo pendiente por pagar de la inversión al 31 de Diciembre de 2024 (m = g - l)
A8: A. Asociaciones Público Privadas (APP’s) (A=a+b+c+d) | E8: 0 | G8: 0 | H8: 0 | I8: 0 | J8: 0 | K8: 0
A9: a) APP 1 | E9: 0 | G9: 0 | H9: 0 | I9: 0 | J9: 0 | K9: 0
A10: b) APP 2 | E10: 0 | G10: 0 | H10: 0 | I10: 0 | J10: 0 | K10: 0
A11: c) APP 3 | E11: 0 | G11: 0 | H11: 0 | I11: 0 | J11: 0 | K11: 0
A12: d) APP XX | E12: 0 | G12: 0 | H12: 0 | I12: 0 | J12: 0 | K12: 0
A13: *
A14: B. Otros Instrumentos (B=a+b+c+d) | E14: 0 | G14: 0 | H14: 0 | I14: 0 | J14: 0 | K14: 0
A15: a) Otro Instrumento 1 | E15: 0 | G15: 0 | H15: 0 | I15: 0 | J15: 0 | K15: 0
A16: b) Otro Instrumento 2 | E16: 0 | G16: 0 | H16: 0 | I16: 0 | J16: 0 | K16: 0
A17: c) Otro Instrumento 3 | E17: 0 | G17: 0 | H17: 0 | I17: 0 | J17: 0 | K17: 0
A18: d) Otro Instrumento XX | E18: 0 | G18: 0 | H18: 0 | I18: 0 | J18: 0 | K18: 0
A19: *
A20: C. Total de Obligaciones Diferentes de Financiamiento (C=A+B) | E20: 0 | G20: 0 | H20: 0 | I20: 0 | J20: 0 | K20: 0

Sheet Formato 4
A1: Formato 4 Balance Presupuestario - LDF
A2: Municipio de Huanímaro, Gto.
A3: Balance Presupuestario - LDF
A4: del 01 de Enero al 31 de Diciembre de 2024
A5: (PESOS)
A7: Concepto (c) | B7: Estimado/ Aprobado (d) | C7: Devengado | D7: Recaudado/ Pagado
A8: A. Ingresos Totales (A = A1+A2+A3) | B8: 1.1293087e+08 | C8: 1.5466383e+08 | D8: 1.5297673e+08
A9: A1. Ingresos de Libre Disposición | B9: 78791910 | C9: 1.1268744e+08 | D9: 1.1100034e+08
A10: A2. Transferencias Federales Etiquetadas | B10: 38938960 | C10: 40776395 | D10: 40776395
A11: A3. Financiamiento Neto | B11: -4800000 | C11: 1200000 | D11: 1200000
A13: B. Egresos Presupuestarios1 (B = B1+B2) | B13: 1.1293087e+08 | C13: 1.693964e+08 | D13: 1.709935e+08
A14: B1. Gasto No Etiquetado (sin incluir Amortización de la Deuda Pública) | B14: 73195033 | C14: 1.0174086e+08 | D14: 99770272
A15: B2. Gasto Etiquetado (sin incluir Amortización de la Deuda Pública) | B15: 39735837 | C15: 67655539 | D15: 71223229
A17: C. Remanentes del Ejercicio Anterior ( C = C1 + C2 ) | B17: 0 | C17: 35740580 | D17: 36328821
A18: C1. Remanentes de Ingresos de Libre Disposición aplicados en el periodo | B18: 0 | C18: 19893670 | D18: 19893670
A19: C2. Remanentes de Transferencias Federales Etiquetadas aplicados en el periodo | B19: 0 | C19: 15846910 | D19: 16435151
A21: I. Balance Presupuestario (I = A – B + C) | B21: 0 | C21: 21008010 | D21: 18312052
A23: II. Balance Presupuestario sin Financiamiento Neto (II = I - A3) | B23: 4800000 | C23: 19808010 | D23: 17112052
A25: III. Balance Presupuestario sin Financiamiento Neto y sin Remanentes del Ejercicio Anterior (III= II - C) | B25: 4800000 | C25: -15932570 | D25: -19216769
A28: Concepto | B28: Aprobado | C28: Devengado | D28: Pagado
A29: E. Intereses, Comisiones y Gastos de la Deuda (E = E1+E2) | B29: 185000 | C29: 164640 | D29: 164640
A30: E1. Intereses, Comisiones y Gastos de la Deuda con Gasto No Etiquetado | B30: 185000 | C30: 164640 | D30: 164640
A31: E2. Intereses, Comisiones y Gastos de la Deuda con Gasto Etiquetado | B31: 0 | C31: 0 | D31: 0
A33: IV. Balance Primario (IV = III + E) | B33: 4985000 | C33: -15767930 | D33: -19052129
A36: Concepto | B36: Estimado/ Aprobado | C36: Devengado | D36: Recaudado/ Pagado
A37: F. Financiamiento (F = F1 + F2) | B37: 0 | C37: 6000000 | D37: 6000000
A38: F1. Financiamiento con Fuente de Pago de Ingresos de Libre Disposición | B38: 0 | C38: 6000000 | D38: 6000000
A39: F2. Financiamiento con Fuente de Pago de Transferencias Federales Etiquetadas | B39: 0 | C39: 0 | D39: 0
A40: G. Amortización de la Deuda (G = G1 + G2) | B40: 4800000 | C40: 4800000 | D40: 4800000
A41: G1. Amortización de la Deuda Pública con Gasto No Etiquetado | B41: 4800000 | C41: 4800000 | D41: 4800000
A42: G2. Amortización de la Deuda Pública con Gasto Etiquetado | B42: 0 | C42: 0 | D42: 0
A44: A3. Financiamiento Neto (A3 = F – G ) | B44: -4800000 | C44: 1200000 | D44: 1200000
A47: Concepto | B47: Estimado/ Aprobado | C47: Devengado | D47: Recaudado/ Pagado
A48: A1. Ingresos de Libre Disposición | B48: 78791910 | C48: 1.1268744e+08 | D48: 1.1100034e+08
A49: A3.1 Financiamiento Neto con Fuente de Pago de Ingresos de Libre Disposición (A3.1 = F1 – G1) | B49: -4800000 | C49: 1200000 | D49: 1200000
A50: F1. Financiamiento con Fuente de Pago de Ingresos de Libre Disposición | B50: 0 | C50: 6000000 | D50: 6000000
A51: G1. Amortización de la Deuda Pública con Gasto No Etiquetado | B51: 4800000 | C51: 4800000 | D51: 4800000
A53: B1. Gasto No Etiquetado (sin incluir Amortización de la Deuda Pública) | B53: 73195033 | C53: 1.0174086e+08 | D53: 99770272
A55: C1. Remanentes de Ingresos de Libre Disposición aplicados en el periodo | C55: 19893670 | D55: 19893670
A57: V. Balance Presupuestario de Recursos Disponibles (V = A1 + A3.1 – B 1 + C1) | B57: 796877.14 | C57: 32040244 | D57: 32323735
...

Sheet Formato 5
A1: Formato 5 Estado Analítico de Ingresos Detallado - LDF
A2: Municipio de Huanímaro, Gto.
A3: Estado Analítico de Ingresos Detallado - LDF
A4: del 01 de Enero al 31 de Diciembre de 2024
A5: (PESOS)
A6: Concepto (c) | B6: Ingreso | G6: Diferencia (e)
B7: Estimado (d) | C7: Ampliaciones/ (Reducciones) | D7: Modificado | E7: Devengado | F7: Recaudado
A8: Ingresos de Libre Disposición
A9: A. Impuestos | B9: 2960798.2 | C9: 239864.52 | D9: 3200662.7 | E9: 3396611.5 | F9: 3384466.6 | G9: 423668.46
A10: B. Cuotas y Aportaciones de Seguridad Social | B10: 0 | C10: 0 | D10: 0 | E10: 0 | F10: 0 | G10: 0
A11: C. Contribuciones de Mejoras | B11: 0 | C11: 0 | D11: 0 | E11: 0 | F11: 0 | G11: 0
A12: D. Derechos | B12: 5883186.5 | C12: 740851.66 | D12: 6624038.2 | E12: 6261614.4 | F12: 4588310.3 | G12: -1294876.2
A13: E. Productos | B13: 829188.18 | C13: -63021.81 | D13: 766166.37 | E13: 362145.13 | F13: 361277.73 | G13: -467910.45
A14: F. Aprovechamientos | B14: 278266.75 | C14: 4861340.4 | D14: 5139607.2 | E14: 7806537.8 | F14: 7805753.1 | G14: 7527486.4
A15: G. Ingresos por Venta de Bienes y Prestación de Servicios | B15: 0 | C15: 0 | D15: 0 | E15: 0 | F15: 0 | G15: 0
A16: H. Participaciones (H=h1+h2+h3+h4+h5+h6+h7+h8+h9+h10+h11) | B16: 67821447 | C16: 12116753 | D16: 79938200 | E16: 75629806 | F16: 75629806 | G16: 7808359.1
A17: h1) Fondo General de Participaciones | B17: 29969947 | C17: 5004234.4 | D17: 34974181 | E17: 34333847 | F17: 34333847 | G17: 4363900.7
A18: h2) Fondo de Fomento Municipal | B18: 30721958 | C18: 4698092.7 | D18: 35420051 | E18: 35691730 | F18: 35691730 | G18: 4969771.4
A19: h3) Fondo de Fiscalización y Recaudación | B19: 1198216.6 | C19: 174988.36 | D19: 1373205 | E19: 1490632.9 | F19: 1490632.9 | G19: 292416.25
A20: h4) Fondo de Compensación | B20: 0 | C20: 0 | D20: 0 | E20: 0 | F20: 0 | G20: 0
... A41: I. Total de Ingresos de Libre Disposición (I=A+B+C+D+E+F+G+H+I+J+K+L) | B41: 78791910 | C41: 37155049 | D41: 1.1594696e+08 | E41: 1.1267868e+08 | F41: 1.1099158e+08 | G41: 32199668
A42: Ingresos Excedentes de Ingresos de Libre Disposición | G42: 32199668
A44: Transferencias Federales Etiquetadas
A45: A. Aportaciones (A=a1+a2+a3+a4+a5+a6+a7+a8) | B45: 38938960 | C45: 1245873 | D45: 40184833 | E45: 40184833 | F45: 40184833 | G45: 1245873
A46: a1) Fondo de Aportaciones para la Nómina Educativa y Gasto Operativo | B46: 0 | C46: 0 | D46: 0 | E46: 0 | F46: 0 | G46: 0
A47: a2) Fondo de Aportaciones para los Servicios de Salud | B47: 0 | C47: 0 | D47: 0 | E47: 0 | F47: 0 | G47: 0
A48: a3) Fondo de Aportaciones para la Infraestructura Social | B48: 21218858 | C48: -293019.98 | D48: 20925838 | E48: 20925838 | F48: 20925838 | G48: -293019.98
A49: a4) Fondo de Aportaciones para el Fortalecimiento de los Municipios y de las Demarcaciones Territoriales del Distrito Federal | B49: 17720102 | C49: 1538893 | D49: 19258995 | E49: 19258995 | F49: 19258995 | G49: 1538893
A50: a5) Fondo de Aportaciones Múltiples | B50: 0 | C50: 0 | D50: 0 | E50: 0 | F50: 0 | G50: 0
A51: a6) Fondo de Aportaciones para la Educación Tecnológica y de Adultos | B51: 0 | C51: 0 | D51: 0 | E51: 0 | F51: 0 | G51: 0
A52: a7) Fondo de Aportaciones para la Seguridad Pública de los Estados y del Distrito Federal | B52: 0 | C52: 0 | D52: 0 | E52: 0 | F52: 0 | G52: 0
A53: a8) Fondo de Aportaciones para el Fortalecimiento de las Entidades Federativas | B53: 0 | C53: 0 | D53: 0 | E53: 0 | F53: 0 | G53: 0
A54: B. Convenios (B=b1+b2+b3+b4) | B54: 0 | C54: 0 | D54: 0 | E54: 0 | F54: 0 | G54: 0
A55: b1) Convenios de Protección Social en Salud | B55: 0 | C55: 0 | D55: 0 | E55: 0 | F55: 0 | G55: 0
A56: b2) Convenios de Descentralización | B56: 0 | C56: 0 | D56: 0 | E56: 0 | F56: 0 | G56: 0
... A70: IV. Total de Ingresos (IV = I + II + III) | B70: 1.1773087e+08 | C70: 45500922 | D70: 1.6323179e+08 | E70: 1.5886351e+08 | F70: 1.5717641e+08 | G70: 39445541
A72: Datos Informativos
A73: 1. Ingresos Derivados de Financiamientos con Fuente de Pago de Ingresos de Libre Disposición | B73: 0 | C73: 7100000 | D73: 7100000 | E73: 6000000 | F73: 6000000 | G73: 6000000
A74: 2. Ingresos Derivados de Financiamientos con Fuente de Pago de Transferencias Federales Etiquetadas | B74: 0 | C74: 0 | D74: 0 | E74: 0 | F74: 0 | G74: 0
A75: 3. Ingresos Derivados de Financiamientos (3 = 1 + 2) | B75: 0 | C75: 7100000 | D75: 7100000 | E75: 6000000 | F75: 6000000 | G75: 6000000

Sheet Formato 6 a)
A1: Formato 6 a) Estado Analítico del Ejercicio del Presupuesto de Egresos Detallado - LDF (Clasificación por Objeto del Gasto)
A2: Municipio de Huanímaro, Gto.
A3: Estado Analítico del Ejercicio del Presupuesto de Egresos Detallado - LDF
A4: Clasificación por Objeto del Gasto (Capítulo y Concepto)
A5: del 01 de Enero al 31 de Diciembre de 2024
A6: (PESOS)
A7: Concepto (c) | B7: Egresos | G7: Subejercicio (e)
B8: Aprobado (d) | C8: Ampliaciones/ (Reducciones) | D8: Modificado | E8: Devengado | F8: Pagado
A9: I. Gasto No Etiquetado (I=A+B+C+D+E+F+G+H+I) | B9: 77995033 | C9: 30839296 | D9: 1.0883433e+08 | E9: 1.0654086e+08 | F9: 1.0457027e+08 | G9: 2293463.6
A10: A. Servicios Personales (A=a1+a2+a3+a4+a5+a6+a7) | B10: 46825542 | C10: 58199.14 | D10: 46883741 | E10: 46745773 | F10: 47048301 | G10: 137968.18
A11: a1) Remuneraciones al Personal de Carácter Permanente | B11: 35817846 | C11: -1008573.1 | D11: 34809273 | E11: 34771335 | F11: 34771335 | G11: 37937.92
A12: a2) Remuneraciones al Personal de Carácter Transitorio | B12: 1277258 | C12: 1933704.1 | D12: 3210962.1 | E12: 3167063.9 | F12: 3689445.7 | G12: 43898.24
A13: a3) Remuneraciones Adicionales y Especiales | B13: 6606278.4 | C13: -879176.45 | D13: 5727102 | E13: 5673007.1 | F13: 5676990.8 | G13: 54094.86
A14: a4) Seguridad Social | B14: 0 | C14: 0 | D14: 0 | E14: 0 | F14: 0 | G14: 0
A15: a5) Otras Prestaciones Sociales y Económicas | B15: 3124159.8 | C15: 12244.63 | D15: 3136404.4 | E15: 3134367.2 | F15: 2910529.4 | G15: 2037.16
A16: a6) Previsiones | B16: 0 | C16: 0 | D16: 0 | E16: 0 | F16: 0 | G16: 0
A17: a7) Pago de Estímulos a Servidores Públicos | B17: 0 | C17: 0 | D17: 0 | E17: 0 | F17: 0 | G17: 0
A18: B. Materiales y Suministros (B=b1+b2+b3+b4+b5+b6+b7+b8+b9) | B18: 5651299.4 | C18: -67261.66 | D18: 5584037.7 | E18: 5387089.3 | F18: 4981876 | G18: 196948.4
A19: b1) Materiales de Administración, Emisión de Documentos y Artículos Oficiales | B19: 902400 | C19: -50989.89 | D19: 851410.11 | E19: 791682.16 | F19: 737452.13 | G19: 59727.95
A20: b2) Alimentos y Utensilios | B20: 222500 | C20: -10730.34 | D20: 211769.66 | E20: 197634.02 | F20: 165084.02 | G20: 14135.64
... A159: III. Total de Egresos (III = I + II) | B159: 1.1773087e+08 | C159: 84725430 | D159: 2.024563e+08 | E159: 1.741964e+08 | F159: 1.757935e+08 | G159: 28259897

Sheet Formato 6 b)
A1: Formato 6 b) Estado Analítico del Ejercicio del Presupuesto de Egresos Detallado - LDF (Clasificación Administrativa)
A2: Municipio de Huanímaro, Gto.
A3: Estado Analítico del Ejercicio del Presupuesto de Egresos Detallado - LDF
A4: Clasificación Administrativa
A5: del 01 de Enero al 31 de Diciembre de 2024
A6: (PESOS)
A7: Concepto (c) | B7: Egresos | G7: Subejercicio (e)
B8: Aprobado (d) | C8: Ampliaciones/ (Reducciones) | D8: Modificado | E8: Devengado | F8: Pagado
A9: I. Gasto No Etiquetado (I=A+B+C+D+E+F+G+H) | B9: 77995033 | C9: 30839296 | D9: 1.0883433e+08 | E9: 1.0654086e+08 | F9: 1.0457027e+08 | G9: 2293463.6
A10: 31111M140010000 DESPACHO DEL PRESIDENTE | B10: 14734348 | C10: 11552077 | D10: 26286425 | E10: 26199256 | F10: 26375348 | G10: 87168.56
A11: 31111M140020000 HONORABLE AYUNTAMIENTO | B11: 11519092 | C11: 4584632.7 | D11: 16103724 | E11: 16088805 | F11: 15653473 | G11: 14919.51
A12: 31111M140030000 SECRETARIA DEL AYUNTAMIENTO | B12: 2737807.6 | C12: -1289481.4 | D12: 1448326.2 | E12: 1423531.3 | F12: 1417211.8 | G12: 24794.83
A13: 31111M140040000 TESORERIA | B13: 9485748.4 | C13: 56295.74 | D13: 9542044.1 | E13: 9511976.4 | F13: 9456015.8 | G13: 30067.74
A14: 31111M140050000 CONTRALORIA | B14: 1539214.8 | C14: 14226.62 | D14: 1553441.4 | E14: 1529344.7 | F14: 1522850.7 | G14: 24096.67
A15: 31111M140060000 PREDIAL Y CATASTRO | B15: 872966.82 | C15: -107936.78 | D15: 765030.04 | E15: 762596 | F15: 707909.53 | G15: 2434.04
A16: 31111M140070000 AGUA POTABLE | B16: 5593862.7 | C16: -46583.04 | D16: 5547279.7 | E16: 5528453.1 | F16: 5444186.5 | G16: 18826.6
A17: 31111M140080000 OBRAS PUBLICAS Y DESARROLLO URBANO | B17: 4408170.4 | C17: 7300304.8 | D17: 11708475 | E17: 10411293 | F17: 9963598.8 | G17: 1297182.6
A18: 31111M140090000 SERV PUBLICOS MUNICIPALES | B18: 5957764.9 | C18: 706652.56 | D18: 6664417.4 | E18: 6613389.2 | F18: 6539108.9 | G18: 51028.28
A19: 31111M140100000 FISCALIZACION | B19: 862121.78 | C19: -69446.89 | D19: 792674.89 | E19: 789868.71 | F19: 784727.46 | G19: 2806.18
A20: 31111M140110000 DESARROLLO SOCIAL | B20: 2374890 | C20: 675193.71 | D20: 3050083.7 | E20: 3001254 | F20: 2967488.4 | G20: 48829.78
... A30: 31111M140210000 RELLENO SANITARIO | B30: 3012829.2 | C30: 375464.32 | D30: 3388293.6 | E30: 3369013.5 | F30: 3334726.6 | G30: 19280.02
A31: *
A32: II. Gasto Etiquetado (II=A+B+C+D+E+F+G+H) | B32: 39735837 | C32: 53886135 | D32: 93621972 | E32: 67655539 | F32: 71223229 | G32: 25966433
A33: 31111M140070000 AGUA POTABLE | B33: 2300000 | C33: -1343930.4 | D33: 956069.59 | E33: 954540.42 | F33: 952110 | G33: 1529.17
A34: 31111M140080000 OBRAS PUBLICAS Y DESARROLLO URBANO | B34: 22015735 | C34: 39816796 | D34: 61832531 | E34: 40719886 | F34: 43036490 | G34: 21112645
A35: 31111M140090000 SERV PUBLICOS MUNICIPALES | B35: 2172715 | C35: 1789509.8 | D35: 3962224.7 | E35: 3962224.7 | F35: 3962224.7 | G35: 0
A36: 31111M140110000 DESARROLLO SOCIAL | B36: 0 | C36: 9385922.6 | D36: 9385922.6 | E36: 6305910 | F36: 7575478.5 | G36: 3080012.6
A37: 31111M140120000 DESARROLLO RURAL | B37: 0 | C37: 2135200 | D37: 2135200 | E37: 1176929.5 | F37: 1176929.5 | G37: 958270.52
A38: 31111M140130000 DESARROLLO ECONOMICO | B38: 0 | C38: 810000 | D38: 810000 | E38: 0 | F38: 0 | G38: 810000
A39: 31111M140140000 SEGURIDAD PUBLICA | B39: 13247387 | C39: 1135037 | D39: 14382424 | E39: 14381798 | F39: 14368018 | G39: 626.25
A40: 31111M140180000 CASA DE LA CULTURA | B40: 0 | C40: 157600 | D40: 157600 | E40: 154250 | F40: 151978 | G40: 3350
A41: * | D41: 0 | G41: 0
A42: III. Total de Egresos (III = I + II) | B42: 1.1773087e+08 | C42: 84725430 | D42: 2.024563e+08 | E42: 1.741964e+08 | F42: 1.757935e+08 | G42: 28259897

Sheet Formato 6 c)
A1: Formato 6 c) Estado Analítico del Ejercicio del Presupuesto de Egresos Detallado -LDF (Clasificación Funcional)
A2: Municipio de Huanímaro, Gto.
A3: Estado Analítico del Ejercicio del Presupueso de Egresos Detallado - LDF
A4: Clasificación Funcional (Finalidad y Función)
A5: del 01 de Enero al 31 de Diciembre de 2024
A6: (PESOS)
A7: Concepto (c) | B7: Egresos | G7: Subejercicio (e)
B8: Aprobado (d) | C8: Ampliaciones / (Reducciones) | D8: Modificado | E8: Devengado | F8: Pagado
A9: I. Gasto No Etiquetado (I=A+B+C+D) | B9: 77995033 | C9: 30839296 | D9: 1.0883433e+08 | E9: 1.0654086e+08 | F9: 1.0457027e+08 | G9: 2293463.6
A10: A. Gobierno (A=a1+a2+a3+a4+a5+a6+a7+a8) | B10: 46870915 | C10: 14964831 | D10: 61835746 | E10: 61555890 | F10: 61134886 | G10: 279855.87
A11: a1) Legislación | B11: 11519092 | C11: 4584632.7 | D11: 16103724 | E11: 16088805 | F11: 15653473 | G11: 14919.51
A12: a2) Justicia | B12: 0 | C12: 0 | D12: 0 | E12: 0 | F12: 0 | G12: 0
A13: a3) Coordinación de la Política de Gobierno | B13: 22797472 | C13: 10107665 | D13: 32905137 | E13: 32692479 | F13: 32833341 | G13: 212657.27
A14: a4) Relaciones Exteriores | B14: 0 | C14: 0 | D14: 0 | E14: 0 | F14: 0 | G14: 0
A15: a5) Asuntos Financieros y Hacendarios | B15: 10358715 | C15: -51641.04 | D15: 10307074 | E15: 10274572 | F15: 10163925 | G15: 32501.78
A16: a6) Seguridad Nacional | B16: 0 | C16: 0 | D16: 0 | E16: 0 | F16: 0 | G16: 0
A17: a7) Asuntos de Orden Público y de Seguridad Interior | B17: 0 | C17: 484618.56 | D17: 484618.56 | E17: 472606.73 | F17: 472386.73 | G17: 12011.83
A18: a8) Otros Servicios Generales | B18: 2195636.4 | C18: -160444.29 | D18: 2035192.1 | E18: 2027426.6 | F18: 2011759.1 | G18: 7765.48
A19: B. Desarrollo Social (B=b1+b2+b3+b4+b5+b6+b7) | B19: 27874967 | C19: 10087050 | D19: 37962017 | E19: 36457684 | F19: 35690811 | G19: 1504333.4
A20: b1) Protección Ambiental | B20: 8606692 | C20: 328881.28 | D20: 8935573.3 | E20: 8897466.6 | F20: 8778913.1 | G20: 38106.62
... A77: III. Total de Egresos (III = I + II) | B77: 1.1773087e+08 | C77: 84725430 | D77: 2.024563e+08 | E77: 1.741964e+08 | F77: 1.757935e+08 | G77: 28259897

Sheet Formato 6 d)
A1: Formato 6 d) Estado Analítico del Ejercicio del Presupuesto de Egresos Detallado - LDF (Clasificación de Servicios Personales por Categoría)
A2: Municipio de Huanímaro, Gto.
A3: Estado Analítico del Ejercicio del Presupuesto de Egresos Detallado - LDF
A4: Clasificación de Servicios Personales por Categoría
A5: del 01 de Enero al 31 de Diciembre de 2024
A6: (PESOS)
A7: Concepto ( c ) | B7: Egresos | G7: Subejercicio (e)
B8: Aprobado (d) | C8: Ampliaciones / (Reducciones) | D8: Modificado | E8: Devengado | F8: Pagado
A9: I. Gasto No Etiquetado (I=A+B+C+D+E+F) | B9: 46825542 | C9: 58199.14 | D9: 46883741 | E9: 46745773 | F9: 47048301 | G9: 137968.18
A10: A. Personal Administrativo | B10: 46825542 | C10: 58199.14 | D10: 46883741 | E10: 46745773 | F10: 47048301 | G10: 137968.18
A11: B. Magisterio | B11: 0 | C11: 0 | D11: 0 | E11: 0 | F11: 0 | G11: 0
A12: C. Servicios de Salud (C=c1+c2) | B12: 0 | C12: 0 | D12: 0 | E12: 0 | F12: 0 | G12: 0
A13: c1) Personal Administrativo | B13: 0 | C13: 0 | D13: 0 | E13: 0 | F13: 0 | G13: 0
A14: c2) Personal Médico, paramédico y afín | B14: 0 | C14: 0 | D14: 0 | E14: 0 | F14: 0 | G14: 0
A15: D. Seguridad Pública | B15: 0 | C15: 0 | D15: 0 | E15: 0 | F15: 0 | G15: 0
A16: E. Gastos asociados a la implementación de nuevas leyes federales o reformas a las mismas (E=e1+e2) | B16: 0 | C16: 0 | D16: 0 | E16: 0 | F16: 0 | G16: 0
A17: e1) Nombre del Programa o Ley 1 | B17: 0 | C17: 0 | D17: 0 | E17: 0 | F17: 0 | G17: 0
A18: e2) Nombre del Programa o Ley 2 | B18: 0 | C18: 0 | D18: 0 | E18: 0 | F18: 0 | G18: 0
A19: F. Sentencias laborales definitivas | B19: 0 | C19: 0 | D19: 0 | E19: 0 | F19: 0 | G19: 0
A21: II. Gasto Etiquetado (I=A+B+C+D+E+F) | B21: 11462587 | C21: 693595.16 | D21: 12156182 | E21: 12155182 | F21: 12155182 | G21: 1000
... A33: III. Total de Gasto en Servicios Personales (III = I + II) | B33: 58288129 | C33: 751794.3 | D33: 59039923 | E33: 58900955 | F33: 59203483 | G33: 138968.18

Sheet 7a
A1: Formato 7 a) Proyecciones de Ingresos - LDF
A2: ='Formato 1'!A2 -> Municipio de Huanímaro, Gto.
A3: Proyecciones de Ingresos - LDF
A4: (PESOS)
A5: (CIFRAS NOMINALES)
A6: Concepto (b) | B6: 2022 | C6: =+B6+1 -> 2023 | D6: =+C6+1 -> 2024 | E6: =+D6+1 -> 2025 | F6: =+E6+1 -> 2026 | G6: =+F6+1 -> 2027
B7: Año en Cuestión (de proyecto de presupuesto) (c)
A8: 1. Ingresos de Libre Disposición (1=A+B+C+D+E+F+G+H+I+J+K+L) | B8: =SUM(B9:B20) -> 0 | C8: =SUM(C9:C20) -> 0 | D8: =SUM(D9:D20) -> 0 | E8: =SUM(E9:E20) -> 0 | F8: =SUM(F9:F20) -> 0 | G8: =SUM(G9:G20) -> 0
A9: A. Impuestos | B9: 0 | C9: 0 | D9: 0 | E9: 0 | F9: 0 | G9: 0
A10: B. Cuotas y Aportaciones de Seguridad Social | B10: 0 | C10: 0 | D10: 0 | E10: 0 | F10: 0 | G10: 0
A11: C. Contribuciones de Mejoras | B11: 0 | C11: 0 | D11: 0 | E11: 0 | F11: 0 | G11: 0
A12: D. Derechos | B12: 0 | C12: 0 | D12: 0 | E12: 0 | F12: 0 | G12: 0
A13: E. Productos | B13: 0 | C13: 0 | D13: 0 | E13: 0 | F13: 0 | G13: 0
A14: F. Aprovechamientos | B14: 0 | C14: 0 | D14: 0 | E14: 0 | F14: 0 | G14: 0
A15: G. Ingresos por ventas de Bienes y Prestación de Servicios | B15: 0 | C15: 0 | D15: 0 | E15: 0 | F15: 0 | G15: 0
A16: H. Participaciones | B16: 0 | C16: 0 | D16: 0 | E16: 0 | F16: 0 | G16: 0
A17: I. Incentivos Derivados de la Colaboración Fiscal | B17: 0 | C17: 0 | D17: 0 | E17: 0 | F17: 0 | G17: 0
A18: J. Transferencias y Asignaciones | B18: 0 | C18: 0 | D18: 0 | E18: 0 | F18: 0 | G18: 0
A19: K. Convenios | B19: 0 | C19: 0 | D19: 0 | E19: 0 | F19: 0 | G19: 0
A20: L. Otros Ingresos de Libre Disposición | B20: 0 | C20: 0 | D20: 0 | E20: 0 | F20: 0 | G20: 0
A22: 2. Transferencias Federales Etiquetadas (2=A+B+C+D+E) | B22: =SUM(B23:B27) -> 0 | C22: =SUM(C23:C27) -> 0 | D22: =SUM(D23:D27) -> 0 | E22: =SUM(E23:E27) -> 0 | F22: =SUM(F23:F27) -> 0 | G22: =SUM(G23:G27) -> 0
A23: A. Aportaciones | B23: 0 | C23: 0 | D23: 0 | E23: 0 | F23: 0 | G23: 0
A24: B. Convenios | B24: 0 | C24: 0 | D24: 0 | E24: 0 | F24: 0 | G24: 0
A25: C. Fondos Distintos de Aportaciones | B25: 0 | C25: 0 | D25: 0 | E25: 0 | F25: 0 | G25: 0
A26: D. Transferencias, Asignaciones, Subsidios y Subvenciones, y Pensiones y Jubilaciones | B26: 0 | C26: 0 | D26: 0 | E26: 0 | F26: 0 | G26: 0
A27: E. Otras Transferencias Federales Etiquetadas | B27: 0 | C27: 0 | D27: 0 | E27: 0 | F27: 0 | G27: 0
A29: 3. Ingresos Derivados de Financiamientos (3=A) | B29: =B30 -> 0 | C29: =C30 -> 0 | D29: =D30 -> 0 | E29: =E30 -> 0 | F29: =F30 -> 0 | G29: =G30 -> 0
A30: A. Ingresos Derivados de Financiamientos | B30: 0 | C30: 0 | D30: 0 | E30: 0 | F30: 0 | G30: 0
A32: 4. Total de Ingresos Proyectados (4=1+2+3) | B32: =B29+B22+B8 -> 0 | C32: =C29+C22+C8 -> 0 | D32: =D29+D22+D8 -> 0 | E32: =E29+E22+E8 -> 0 | F32: =F29+F22+F8 -> 0 | G32: =G29+G22+G8 -> 0
A34: Datos Informativos
A35: 1. Ingresos Derivados de Financiamientos con Fuente de Pago de Recursos de Libre Disposición | B35: 0 | C35: 0 | D35: 0 | E35: 0 | F35: 0 | G35: 0
A36: 2. Ingresos Derivados de Financiamientos con Fuente de Pago de Transferencias Federales Etiquetadas | B36: 0 | C36: 0 | D36: 0 | E36: 0 | F36: 0 | G36: 0
A37: 3. Ingresos Derivados de Financiamientos (3= 1 + 2) | B37: =B36+B35 -> 0 | C37: =C36+C35 -> 0 | D37: =D36+D35 -> 0 | E37: =E36+E35 -> 0 | F37: =F36+F35 -> 0 | G37: =G36+G35 -> 0

Sheet 7b
A1: Formato 7 b) Proyecciones de Egresos - LDF
A2: ='Formato 1'!A2 -> Municipio de Huanímaro, Gto.
A3: Proyecciones de Egresos - LDF
A4: (PESOS)
A5: (CIFRAS NOMINALES)
A6: Concepto (b) | B6: 2022 | C6: =+B6+1 -> 2023 | D6: =+C6+1 -> 2024 | E6: =+D6+1 -> 2025 | F6: =+E6+1 -> 2026 | G6: =+F6+1 -> 2027
B7: Año en Cuestión (de proyecto de presupuesto) (c)
A8: 1. Gasto No Etiquetado (1=A+B+C+D+E+F+G+H+I) | B8: =SUM(B9:B17) -> 0 | C8: =SUM(C9:C17) -> 0 | D8: =SUM(D9:D17) -> 0 | E8: =SUM(E9:E17) -> 0 | F8: =SUM(F9:F17) -> 0 | G8: =SUM(G9:G17) -> 0
A9: A. Servicios Personales | B9: 0 | C9: 0 | D9: 0 | E9: 0 | F9: 0 | G9: 0
A10: B. Materiales y Suministros | B10: 0 | C10: 0 | D10: 0 | E10: 0 | F10: 0 | G10: 0
A11: C. Servicios Generales | B11: 0 | D11: 0 | E11: 0 | F11: 0 | G11: 0
A12: D. Transferencias, Asignaciones, Subsidios y Otras Ayudas | B12: 0 | C12: 0 | D12: 0 | E12: 0 | F12: 0 | G12: 0
A13: E. Bienes Muebles, Inmuebles e Intangibles | B13: 0 | C13: 0 | D13: 0 | E13: 0 | F13: 0 | G13: 0
A14: F. Inversión Pública | B14: 0 | C14: 0 | D14: 0 | E14: 0 | F14: 0 | G14: 0
A15: G. Inversiones Financieras y Otras Provisiones | B15: 0 | C15: 0 | D15: 0 | E15: 0 | F15: 0 | G15: 0
A16: H. Participaciones y Aportaciones | B16: 0 | C16: 0 | D16: 0 | E16: 0 | F16: 0 | G16: 0
A17: I. Deuda Pública | B17: 0 | C17: 0 | D17: 0 | E17: 0 | F17: 0 | G17: 0
A19: 2. Gasto Etiquetado (2=A+B+C+D+E+F+G+H+I) | B19: =SUM(B20:B28) -> 0 | C19: =SUM(C20:C28) -> 0 | D19: =SUM(D20:D28) -> 0 | E19: =SUM(E20:E28) -> 0 | F19: =SUM(F20:F28) -> 0 | G19: =SUM(G20:G28) -> 0
A20: A. Servicios Personales | B20: 0 | C20: 0 | D20: 0 | E20: 0 | F20: 0 | G20: 0
A21: B. Materiales y Suministros | B21: 0 | C21: 0 | D21: 0 | E21: 0 | F21: 0 | G21: 0
A22: C. Servicios Generales | B22: 0 | C22: 0 | D22: 0 | E22: 0 | F22: 0 | G22: 0
A23: D. Transferencias, Asignaciones, Subsidios y Otras Ayudas | B23: 0 | C23: 0 | D23: 0 | E23: 0 | F23: 0 | G23: 0
A24: E. Bienes Muebles, Inmuebles e Intangibles | B24: 0 | C24: 0 | D24: 0 | E24: 0 | F24: 0 | G24: 0
A25: F. Inversión Pública | B25: 0 | C25: 0 | D25: 0 | E25: 0 | F25: 0 | G25: 0
A26: G. Inversiones Financieras y Otras Provisiones | B26: 0 | C26: 0 | D26: 0 | E26: 0 | F26: 0 | G26: 0
A27: H. Participaciones y Aportaciones | B27: 0 | C27: 0 | D27: 0 | E27: 0 | F27: 0 | G27: 0
A28: I. Deuda Pública | B28: 0 | C28: 0 | D28: 0 | E28: 0 | F28: 0 | G28: 0
A30: 3. Total de Egresos Proyectados (3 = 1 + 2) | B30: =B8+B19 -> 0 | C30: =C8+C19 -> 0 | D30: =D8+D19 -> 0 | E30: =E8+E19 -> 0 | F30: =F8+F19 -> 0 | G30: =G8+G19 -> 0

Sheet 7c
A1: Formato 7 c) Resultados de Ingresos - LDF
A2: ='Formato 1'!A2 -> Municipio de Huanímaro, Gto.
A3: Resultados de Ingresos - LDF
A4: (PESOS)
A5: Concepto (b) | B5: 2017 | C5: =+B5+1 -> 2018 | D5: =+C5+1 -> 2019 | E5: =+D5+1 -> 2020 | F5: =+E5+1 -> 2021 | G5: =+F5+1 -> 2022
G6: Año del Ejercicio Vigente 2 (d)
A7: 1. Ingresos de Libre Disposición (1=A+B+C+D+E+F+G+H+I+J+K+L) | B7: =SUM(B9:B19) -> 0 | C7: =SUM(C8:C19) -> 0 | D7: =SUM(D8:D19) -> 0 | E7: =SUM(E8:E19) -> 0 | F7: =SUM(F8:F19) -> 0 | G7: =SUM(G8:G19) -> 0
A8: A. Impuestos | B8: 0 | C8: 0 | D8: 0 | E8: 0 | F8: 0 | G8: 0
A9: B. Cuotas y Aportaciones de Seguridad Social | B9: 0 | C9: 0 | D9: 0 | E9: 0 | F9: 0 | G9: 0
A10: C. Contribuciones de Mejoras | B10: 0 | C10: 0 | D10: 0 | E10: 0 | F10: 0 | G10: 0
A11: D. Derechos | B11: 0 | C11: 0 | D11: 0 | E11: 0 | F11: 0 | G11: 0
A12: E. Productos | B12: 0 | C12: 0 | D12: 0 | E12: 0 | F12: 0 | G12: 0
A13: F. Aprovechamientos | B13: 0 | C13: 0 | D13: 0 | E13: 0 | F13: 0 | G13: 0
A14: G. Ingresos por Venta de Bienes y Prestación de Servicios | B14: 0 | C14: 0 | D14: 0 | E14: 0 | F14: 0 | G14: 0
A15: H. Participaciones | B15: 0 | C15: 0 | D15: 0 | E15: 0 | F15: 0 | G15: 0
A16: I. Incentivos Derivados de la Colaboración Fiscal | B16: 0 | C16: 0 | D16: 0 | E16: 0 | F16: 0 | G16: 0
A17: J. Transferencias y Asignaciones | B17: 0 | C17: 0 | D17: 0 | E17: 0 | F17: 0 | G17: 0
A18: K. Convenios | B18: 0 | C18: 0 | D18: 0 | E18: 0 | F18: 0 | G18: 0
A19: L. Otros Ingresos de Libre Disposición | B19: 0 | C19: 0 | D19: 0 | E19: 0 | F19: 0 | G19: 0
A21: 2. Transferencias Federales Etiquetadas (2=A+B+C+D+E) | B21: =SUM(B22:B26) -> 0 | C21: =SUM(C22:C26) -> 0 | D21: =SUM(D22:D26) -> 0 | E21: =SUM(E22:E26) -> 0 | F21: =SUM(F22:F26) -> 0 | G21: =SUM(G22:G26) -> 0
A22: A. Aportaciones | B22: 0 | C22: 0 | D22: 0 | E22: 0 | F22: 0 | G22: 0
A23: B. Convenios | B23: 0 | C23: 0 | D23: 0 | E23: 0 | F23: 0 | G23: 0
A24: C. Fondos Distintos de Aportaciones | B24: 0 | C24: 0 | D24: 0 | E24: 0 | F24: 0 | G24: 0
A25: D. Transferencias, Asignaciones, Subsidios y Subvenciones, y Pensiones y Jubilaciones | B25: 0 | C25: 0 | D25: 0 | E25: 0 | F25: 0 | G25: 0
A26: E. Otras Transferencias Federales Etiquetadas | B26: 0 | C26: 0 | D26: 0 | E26: 0 | F26: 0 | G26: 0
A28: 3. Ingresos Derivados de Financiamientos (3=A) | B28: =B29 -> 0 | C28: =C29 -> 0 | D28: =D29 -> 0 | E28: =E29 -> 0 | F28: =F29 -> 0 | G28: =G29 -> 0
A29: A. Ingresos Derivados de Financiamientos | B29: 0 | C29: 0 | D29: 0 | E29: 0 | F29: 0 | G29: 0
A31: 4. Total de Resultados de Ingresos (4=1+2+3) | B31: =B7+B21+B28 -> 0 | C31: =C7+C21+C28 -> 0 | D31: =D7+D21+D28 -> 0 | E31: =E7+E21+E28 -> 0 | F31: =F7+F21+F28 -> 0 | G31: =G7+G21+G28 -> 0
A33: Datos Informativos
A34: 1. Ingresos Derivados de Financiamientos con Fuente de Pago de Recursos de Libre Disposición | B34: 0 | C34: 0 | D34: 0 | E34: 0 | F34: 0 | G34: 0
A35: 2. Ingresos derivados de Financiamientos con Fuente de Pago de Transferencias Federales Etiquetadas | B35: 0 | C35: 0 | D35: 0 | E35: 0 | F35: 0 | G35: 0
A36: 3. Ingresos Derivados de Financiamiento (3 = 1 + 2) | B36: =B34+B35 -> 0 | C36: =C34+C35 -> 0 | D36: =D34+D35 -> 0 | E36: =E34+E35 -> 0 | F36: =F34+F35 -> 0 | G36: =G34+G35 -> 0
A39: 1 Los importes corresponden al momento contable de los ingresos devengados.
A40: 2 Los importes corresponden a los ingresos devengados al cierre trimestral más reciente disponible y estimados para el resto del ejercicio.

Sheet 7d
A1: Formato 7 d) Resultados de Egresos - LDF
A2: ='Formato 1'!A2 -> Municipio de Huanímaro, Gto.
A3: Resultados de Egresos - LDF
A4: (PESOS)
A5: Concepto (b) | B5: 2017 | C5: =+B5+1 -> 2018 | D5: =+C5+1 -> 2019 | E5: =+D5+1 -> 2020 | F5: =+E5+1 -> 2021 | G5: 2022
G6: Año del Ejercicio Vigente 2 (d)
A7: 1. Gasto No Etiquetado (1=A+B+C+D+E+F+G+H+I) | B7: =SUM(B8:B16) -> 0 | C7: =SUM(C8:C16) -> 0 | D7: =SUM(D8:D16) -> 0 | E7: =SUM(E8:E16) -> 0 | F7: =SUM(F8:F16) -> 0 | G7: =SUM(G8:G16) -> 0
A8: A. Servicios Personales | B8: 0 | C8: 0 | D8: 0 | E8: 0 | F8: 0 | G8: 0
A9: B. Materiales y Suministros | B9: 0 | C9: 0 | D9: 0 | E9: 0 | F9: 0 | G9: 0
A10: C. Servicios Generales | B10: 0 | C10: 0 | D10: 0 | E10: 0 | F10: 0 | G10: 0
A11: D. Transferencias, Asignaciones, Subsidios y Otras Ayudas | B11: 0 | C11: 0 | D11: 0 | E11: 0 | F11: 0 | G11: 0
A12: E. Bienes Muebles, Inmuebles e Intangibles | B12: 0 | C12: 0 | D12: 0 | E12: 0 | F12: 0 | G12: 0
A13: F. Inversión Pública | B13: 0 | C13: 0 | D13: 0 | E13: 0 | F13: 0 | G13: 0
A14: G. Inversiones Financieras y Otras Provisiones | B14: 0 | C14: 0 | D14: 0 | E14: 0 | F14: 0 | G14: 0
A15: H. Participaciones y Aportaciones | B15: 0 | C15: 0 | D15: 0 | E15: 0 | F15: 0 | G15: 0
A16: I. Deuda Pública | B16: 0 | C16: 0 | D16: 0 | E16: 0 | F16: 0 | G16: 0
A18: 2. Gasto Etiquetado (2=A+B+C+D+E+F+G+H+I) | B18: =SUM(B19:B27) -> 0 | C18: =SUM(C19:C27) -> 0 | D18: =SUM(D19:D27) -> 0 | E18: =SUM(E19:E27) -> 0 | F18: =SUM(F19:F27) -> 0 | G18: =SUM(G19:G27) -> 0
A19: A. Servicios Personales | B19: 0 | C19: 0 | D19: 0 | E19: 0 | F19: 0 | G19: 0
A20: B. Materiales y Suministros | B20: 0 | C20: 0 | D20: 0 | E20: 0 | F20: 0 | G20: 0
A21: C. Servicios Generales | B21: 0 | C21: 0 | D21: 0 | E21: 0 | F21: 0 | G21: 0
A22: D. Transferencias, Asignaciones, Subsidios y Otras Ayudas | B22: 0 | C22: 0 | D22: 0 | E22: 0 | F22: 0 | G22: 0
A23: E. Bienes Muebles, Inmuebles e Intangibles | B23: 0 | C23: 0 | D23: 0 | E23: 0 | F23: 0 | G23: 0
A24: F. Inversión Pública | B24: 0 | C24: 0 | D24: 0 | E24: 0 | F24: 0 | G24: 0
A25: G. Inversiones Financieras y Otras Provisiones | B25: 0 | C25: 0 | D25: 0 | E25: 0 | F25: 0 | G25: 0
A26: H. Participaciones y Aportaciones | B26: 0 | C26: 0 | D26: 0 | E26: 0 | F26: 0 | G26: 0
A27: I. Deuda Pública | B27: 0 | C27: 0 | D27: 0 | E27: 0 | F27: 0 | G27: 0
A29: 3. Total del Resultado de Egresos (3=1+2) | B29: =B7+B18 -> 0 | C29: =C7+C18 -> 0 | D29: =D7+D18 -> 0 | E29: =E7+E18 -> 0 | F29: =F7+F18 -> 0 | G29: =G7+G18 -> 0
A32: 1 Los importes corresponden al momento contable de los ingresos devengados.
A33: 2 Los importes corresponden a los ingresos devengados al cierre trimestral más reciente disponible y estimados para el resto del ejercicio.

Sheet F8_IEA
A1: Formato 8) Informe sobre Estudios Actuariales – LDF
A2: ='Formato 1'!A2 -> Municipio de Huanímaro, Gto.
A3: Informe sobre Estudios Actuariales - LDF
B4: Pensiones y jubilaciones | C4: Salud | D4: Riesgos de trabajo | E4: Invalidez y vida | F4: Otras prestaciones sociales
A5: Tipo de Sistema
A6: Prestación laboral o Fondo general para trabajadores del estado o municipio
A7: Beneficio definido, Contribución definida o Mixto
A9: Población afiliada
A10: Activos
A11: Edad máxima
A12: Edad mínima
A13: Edad promedio
A14: Pensionados y Jubilados
A15: Edad máxima
A16: Edad mínima
A17: Edad promedio
... A66: Empresa que elaboró el estudio actuarial
